BEGIN:VCALENDAR
VERSION:2.0
PRODID:-//Mt. Calvary HCOD - ECPv5.7.1//NONSGML v1.0//EN
CALSCALE:GREGORIAN
METHOD:PUBLISH
X-WR-CALNAME:Mt. Calvary HCOD
X-ORIGINAL-URL:https://mtcalvaryholy.org
X-WR-CALDESC:Events for Mt. Calvary HCOD
BEGIN:VTIMEZONE
TZID:America/New_York
BEGIN:DAYLIGHT
TZOFFSETFROM:-0500
TZOFFSETTO:-0400
TZNAME:EDT
DTSTART:20200308T070000
END:DAYLIGHT
BEGIN:STANDARD
TZOFFSETFROM:-0400
TZOFFSETTO:-0500
TZNAME:EST
DTSTART:20201101T060000
END:STANDARD
END:VTIMEZONE
BEGIN:VEVENT
DTSTART;TZID=America/New_York:20201231T220000
DTEND;TZID=America/New_York:20201231T220000
DTSTAMP:20260423T032206
CREATED:20201015T133153Z
LAST-MODIFIED:20210131T010919Z
UID:26461-1609452000-1609452000@mtcalvaryholy.org
SUMMARY:WatchNight Service
DESCRIPTION:
URL:https://mtcalvaryholy.org/event/watchnight-service/2020-12-31/
LOCATION:Mt. Calvary HCOD\, 5900 Chillum Pl NE\, Washington\, DC\, 20011\, United States
CATEGORIES:HCOD Calendar,Hot,Special Event
ATTACH;FMTTYPE=image/jpeg:https://mtcalvaryholy.org/wp-content/uploads/clock-exploding-in-fireworks_b-e1602768596209.jpg
END:VEVENT
END:VCALENDAR