BEGIN:VCALENDAR
VERSION:2.0
PRODID:-//Mt. Calvary HCOD - ECPv5.7.1//NONSGML v1.0//EN
CALSCALE:GREGORIAN
METHOD:PUBLISH
X-WR-CALNAME:Mt. Calvary HCOD
X-ORIGINAL-URL:https://mtcalvaryholy.org
X-WR-CALDESC:Events for Mt. Calvary HCOD
BEGIN:VTIMEZONE
TZID:America/New_York
BEGIN:DAYLIGHT
TZOFFSETFROM:-0500
TZOFFSETTO:-0400
TZNAME:EDT
DTSTART:20210314T070000
END:DAYLIGHT
BEGIN:STANDARD
TZOFFSETFROM:-0400
TZOFFSETTO:-0500
TZNAME:EST
DTSTART:20211107T060000
END:STANDARD
END:VTIMEZONE
BEGIN:VEVENT
DTSTART;TZID=America/New_York:20211204T130000
DTEND;TZID=America/New_York:20211204T150000
DTSTAMP:20260423T002403
CREATED:20210201T013106Z
LAST-MODIFIED:20210201T013106Z
UID:26448-1638622800-1638630000@mtcalvaryholy.org
SUMMARY:Annual Memorial Service
DESCRIPTION:
URL:https://mtcalvaryholy.org/event/annual-memorial-service-2/
LOCATION:Zoom
CATEGORIES:Conference,HCOD Calendar,Hot
ATTACH;FMTTYPE=image/jpeg:https://mtcalvaryholy.org/wp-content/uploads/gallery_IMG_8105.jpg
END:VEVENT
END:VCALENDAR