BEGIN:VCALENDAR
VERSION:2.0
PRODID:-//Mt. Calvary HCOD - ECPv5.7.1//NONSGML v1.0//EN
CALSCALE:GREGORIAN
METHOD:PUBLISH
X-WR-CALNAME:Mt. Calvary HCOD
X-ORIGINAL-URL:https://mtcalvaryholy.org
X-WR-CALDESC:Events for Mt. Calvary HCOD
BEGIN:VTIMEZONE
TZID:America/New_York
BEGIN:DAYLIGHT
TZOFFSETFROM:-0500
TZOFFSETTO:-0400
TZNAME:EDT
DTSTART:20220313T070000
END:DAYLIGHT
BEGIN:STANDARD
TZOFFSETFROM:-0400
TZOFFSETTO:-0500
TZNAME:EST
DTSTART:20221106T060000
END:STANDARD
END:VTIMEZONE
BEGIN:VEVENT
DTSTART;TZID=America/New_York:20220801T130000
DTEND;TZID=America/New_York:20220805T220000
DTSTAMP:20260422T210948
CREATED:20210201T012642Z
LAST-MODIFIED:20220116T172650Z
UID:26776-1659358800-1659736800@mtcalvaryholy.org
SUMMARY:78th Annual Holy Convocation
DESCRIPTION:
URL:https://mtcalvaryholy.org/event/78th-annual-holy-convocation/
LOCATION:Zoom
CATEGORIES:Conference,HCOD Calendar,Hot
ATTACH;FMTTYPE=image/jpeg:https://mtcalvaryholy.org/wp-content/uploads/gallery_IMG_8105.jpg
END:VEVENT
END:VCALENDAR